BEGIN:VCALENDAR
VERSION:2.0
PRODID:-//Cape School - ECPv6.7.0//NONSGML v1.0//EN
CALSCALE:GREGORIAN
METHOD:PUBLISH
X-ORIGINAL-URL:https://capeisgreat.org
X-WR-CALDESC:Events for Cape School
REFRESH-INTERVAL;VALUE=DURATION:PT1H
X-Robots-Tag:noindex
X-PUBLISHED-TTL:PT1H
BEGIN:VTIMEZONE
TZID:UTC
BEGIN:STANDARD
TZOFFSETFROM:+0000
TZOFFSETTO:+0000
TZNAME:UTC
DTSTART:20260101T000000
END:STANDARD
END:VTIMEZONE
BEGIN:VEVENT
DTSTART;TZID=UTC:20260213T080000
DTEND;TZID=UTC:20260222T170000
DTSTAMP:20260420T122842
CREATED:20250824T031747Z
LAST-MODIFIED:20250824T031815Z
UID:3449-1770969600-1771779600@capeisgreat.org
SUMMARY:February Break starts
DESCRIPTION:
URL:https://capeisgreat.org/event/february-break-starts/
ATTACH;FMTTYPE=image/jpeg:https://capeisgreat.org/wp-content/uploads/2025/08/download-2.jpg
END:VEVENT
END:VCALENDAR